BEGIN:VCALENDAR
VERSION:2.0
PRODID:-//Musikverein Eichenau e.V. - ECPv6.15.20//NONSGML v1.0//EN
CALSCALE:GREGORIAN
METHOD:PUBLISH
X-WR-CALNAME:Musikverein Eichenau e.V.
X-ORIGINAL-URL:https://musikverein-eichenau.de
X-WR-CALDESC:Veranstaltungen für Musikverein Eichenau e.V.
REFRESH-INTERVAL;VALUE=DURATION:PT1H
X-Robots-Tag:noindex
X-PUBLISHED-TTL:PT1H
BEGIN:VTIMEZONE
TZID:Europe/Berlin
BEGIN:DAYLIGHT
TZOFFSETFROM:+0100
TZOFFSETTO:+0200
TZNAME:CEST
DTSTART:20240331T010000
END:DAYLIGHT
BEGIN:STANDARD
TZOFFSETFROM:+0200
TZOFFSETTO:+0100
TZNAME:CET
DTSTART:20241027T010000
END:STANDARD
BEGIN:DAYLIGHT
TZOFFSETFROM:+0100
TZOFFSETTO:+0200
TZNAME:CEST
DTSTART:20250330T010000
END:DAYLIGHT
BEGIN:STANDARD
TZOFFSETFROM:+0200
TZOFFSETTO:+0100
TZNAME:CET
DTSTART:20251026T010000
END:STANDARD
BEGIN:DAYLIGHT
TZOFFSETFROM:+0100
TZOFFSETTO:+0200
TZNAME:CEST
DTSTART:20260329T010000
END:DAYLIGHT
BEGIN:STANDARD
TZOFFSETFROM:+0200
TZOFFSETTO:+0100
TZNAME:CET
DTSTART:20261025T010000
END:STANDARD
END:VTIMEZONE
BEGIN:VEVENT
DTSTART;TZID=Europe/Berlin:20251214T160000
DTEND;TZID=Europe/Berlin:20251214T173000
DTSTAMP:20260425T171602
CREATED:20250930T214954Z
LAST-MODIFIED:20251119T110030Z
UID:1291-1765728000-1765733400@musikverein-eichenau.de
SUMMARY:Weihnachtskonzert 2025
DESCRIPTION:Herzliche Einladung des Musikvereins Eichenau zum Weihnachtskonzert am 3. Adventssonntag\, 14. Dezember\, um 16 Uhr in die katholische Pfarrkirche in Eichenau! Unter der Leitung von Dirigent Mathias Wehr präsentiert das große sinfonische Blasorchester ein weihnachtliches Programm\, das festliche Tradition mit modernen Klängen verbindet. \nAuf dem Programm stehen unter anderem Medleys bekannter moderner Christmas-Melodien\, Musik aus dem Film „Der Polarexpress“ sowie das zarte „Snowflake Lullaby“\, eine eigene Komposition von Mathias Wehr. Die Mischung aus populären Weihnachtstiteln und sinfonischen Arrangements verspricht ein abwechslungsreiches und fröhliches Konzert\, das sowohl Familien als auch Musikfreunde anspricht. \nDer Eintritt ist frei – wir freuen uns auf Ihren Besuch!
URL:https://musikverein-eichenau.de/event/weihnachtskonzert/
LOCATION:Kath. Kirche Eichenau
END:VEVENT
END:VCALENDAR