BEGIN:VCALENDAR
VERSION:2.0
PRODID:-//Musikverein Eichenau e.V. - ECPv6.15.20//NONSGML v1.0//EN
CALSCALE:GREGORIAN
METHOD:PUBLISH
X-WR-CALNAME:Musikverein Eichenau e.V.
X-ORIGINAL-URL:https://musikverein-eichenau.de
X-WR-CALDESC:Veranstaltungen für Musikverein Eichenau e.V.
REFRESH-INTERVAL;VALUE=DURATION:PT1H
X-Robots-Tag:noindex
X-PUBLISHED-TTL:PT1H
BEGIN:VTIMEZONE
TZID:Europe/Berlin
BEGIN:DAYLIGHT
TZOFFSETFROM:+0100
TZOFFSETTO:+0200
TZNAME:CEST
DTSTART:20250330T010000
END:DAYLIGHT
BEGIN:STANDARD
TZOFFSETFROM:+0200
TZOFFSETTO:+0100
TZNAME:CET
DTSTART:20251026T010000
END:STANDARD
BEGIN:DAYLIGHT
TZOFFSETFROM:+0100
TZOFFSETTO:+0200
TZNAME:CEST
DTSTART:20260329T010000
END:DAYLIGHT
BEGIN:STANDARD
TZOFFSETFROM:+0200
TZOFFSETTO:+0100
TZNAME:CET
DTSTART:20261025T010000
END:STANDARD
BEGIN:DAYLIGHT
TZOFFSETFROM:+0100
TZOFFSETTO:+0200
TZNAME:CEST
DTSTART:20270328T010000
END:DAYLIGHT
BEGIN:STANDARD
TZOFFSETFROM:+0200
TZOFFSETTO:+0100
TZNAME:CET
DTSTART:20271031T010000
END:STANDARD
END:VTIMEZONE
BEGIN:VEVENT
DTSTART;TZID=Europe/Berlin:20260218T180000
DTEND;TZID=Europe/Berlin:20260218T220000
DTSTAMP:20260425T171719
CREATED:20260118T195410Z
LAST-MODIFIED:20260118T200611Z
UID:1363-1771437600-1771452000@musikverein-eichenau.de
SUMMARY:Politischer Aschermittwoch der CSU Eichenau
DESCRIPTION:
URL:https://musikverein-eichenau.de/event/politischer-aschermittwoch-der-csu-eichenau/
LOCATION:Friesenhalle Eichenau\, Hauptstraße 60\, Eichenau\, 82223\, Deutschland
END:VEVENT
END:VCALENDAR