BEGIN:VCALENDAR
VERSION:2.0
PRODID:-//Musikverein Eichenau e.V. - ECPv6.15.20//NONSGML v1.0//EN
CALSCALE:GREGORIAN
METHOD:PUBLISH
X-WR-CALNAME:Musikverein Eichenau e.V.
X-ORIGINAL-URL:https://musikverein-eichenau.de
X-WR-CALDESC:Veranstaltungen für Musikverein Eichenau e.V.
REFRESH-INTERVAL;VALUE=DURATION:PT1H
X-Robots-Tag:noindex
X-PUBLISHED-TTL:PT1H
BEGIN:VTIMEZONE
TZID:Europe/Berlin
BEGIN:DAYLIGHT
TZOFFSETFROM:+0100
TZOFFSETTO:+0200
TZNAME:CEST
DTSTART:20250330T010000
END:DAYLIGHT
BEGIN:STANDARD
TZOFFSETFROM:+0200
TZOFFSETTO:+0100
TZNAME:CET
DTSTART:20251026T010000
END:STANDARD
BEGIN:DAYLIGHT
TZOFFSETFROM:+0100
TZOFFSETTO:+0200
TZNAME:CEST
DTSTART:20260329T010000
END:DAYLIGHT
BEGIN:STANDARD
TZOFFSETFROM:+0200
TZOFFSETTO:+0100
TZNAME:CET
DTSTART:20261025T010000
END:STANDARD
BEGIN:DAYLIGHT
TZOFFSETFROM:+0100
TZOFFSETTO:+0200
TZNAME:CEST
DTSTART:20270328T010000
END:DAYLIGHT
BEGIN:STANDARD
TZOFFSETFROM:+0200
TZOFFSETTO:+0100
TZNAME:CET
DTSTART:20271031T010000
END:STANDARD
END:VTIMEZONE
BEGIN:VEVENT
DTSTART;TZID=Europe/Berlin:20260509T140000
DTEND;TZID=Europe/Berlin:20260509T170000
DTSTAMP:20260425T171740
CREATED:20260406T125039Z
LAST-MODIFIED:20260413T185806Z
UID:1484-1778335200-1778346000@musikverein-eichenau.de
SUMMARY:20 Jahre Maibaumverein
DESCRIPTION:
URL:https://musikverein-eichenau.de/event/20-jahre-maibaumverein/
LOCATION:Eichenau\, Gut Roggenstein\, Oberroggenstein\, Eichenau\, Bayern\, 82223\, Germany
CATEGORIES:Großes sinfonisches Orchester
ORGANIZER;CN="Maibaumverein Eichenau":MAILTO:info@eichenauer-maibaumverein.de
END:VEVENT
END:VCALENDAR