BEGIN:VCALENDAR
VERSION:2.0
PRODID:-//Musikverein Eichenau e.V. - ECPv6.15.20//NONSGML v1.0//EN
CALSCALE:GREGORIAN
METHOD:PUBLISH
X-ORIGINAL-URL:https://musikverein-eichenau.de
X-WR-CALDESC:Veranstaltungen für Musikverein Eichenau e.V.
REFRESH-INTERVAL;VALUE=DURATION:PT1H
X-Robots-Tag:noindex
X-PUBLISHED-TTL:PT1H
BEGIN:VTIMEZONE
TZID:Europe/Berlin
BEGIN:DAYLIGHT
TZOFFSETFROM:+0100
TZOFFSETTO:+0200
TZNAME:CEST
DTSTART:20250330T010000
END:DAYLIGHT
BEGIN:STANDARD
TZOFFSETFROM:+0200
TZOFFSETTO:+0100
TZNAME:CET
DTSTART:20251026T010000
END:STANDARD
BEGIN:DAYLIGHT
TZOFFSETFROM:+0100
TZOFFSETTO:+0200
TZNAME:CEST
DTSTART:20260329T010000
END:DAYLIGHT
BEGIN:STANDARD
TZOFFSETFROM:+0200
TZOFFSETTO:+0100
TZNAME:CET
DTSTART:20261025T010000
END:STANDARD
BEGIN:DAYLIGHT
TZOFFSETFROM:+0100
TZOFFSETTO:+0200
TZNAME:CEST
DTSTART:20270328T010000
END:DAYLIGHT
BEGIN:STANDARD
TZOFFSETFROM:+0200
TZOFFSETTO:+0100
TZNAME:CET
DTSTART:20271031T010000
END:STANDARD
END:VTIMEZONE
BEGIN:VEVENT
DTSTART;TZID=Europe/Berlin:20260626T183000
DTEND;TZID=Europe/Berlin:20260626T193000
DTSTAMP:20260425T172321
CREATED:20260222T110818Z
LAST-MODIFIED:20260418T075110Z
UID:1401-1782498600-1782502200@musikverein-eichenau.de
SUMMARY:Sound in Eichenau - KommEnergie
DESCRIPTION:
URL:https://musikverein-eichenau.de/event/sound-in-eichenau-kommenergie/
LOCATION:KommEnergie\, Hauptplatz 4\, 82223 Eichenau\, Hauptplatz 4\, Eichenau\, 82223\, Germany
CATEGORIES:Alla Breve
END:VEVENT
BEGIN:VEVENT
DTSTART;TZID=Europe/Berlin:20260628T090000
DTEND;TZID=Europe/Berlin:20260628T110000
DTSTAMP:20260425T172321
CREATED:20260222T111710Z
LAST-MODIFIED:20260418T081211Z
UID:1410-1782637200-1782644400@musikverein-eichenau.de
SUMMARY:Eichenau OpenAir Gottesdienst
DESCRIPTION:Wir laden Sie ganz herzlich zum OpenAir Gottesdienst auf der Rathauswiese in Eichenau ein.
URL:https://musikverein-eichenau.de/event/openair-gottesdienst/
LOCATION:Rathauswiese Eichenau\, Hauptplatz 2\, Eichenau\, Bayern\, 82223\, Germany
CATEGORIES:Alla Breve
END:VEVENT
END:VCALENDAR